BEGIN:VCALENDAR
VERSION:2.0
PRODID:-//Mukilteo Historical Society - ECPv6.15.20//NONSGML v1.0//EN
CALSCALE:GREGORIAN
METHOD:PUBLISH
X-WR-CALNAME:Mukilteo Historical Society
X-ORIGINAL-URL:https://mukilteohistorical.org
X-WR-CALDESC:Events for Mukilteo Historical Society
REFRESH-INTERVAL;VALUE=DURATION:PT1H
X-Robots-Tag:noindex
X-PUBLISHED-TTL:PT1H
BEGIN:VTIMEZONE
TZID:America/Los_Angeles
BEGIN:DAYLIGHT
TZOFFSETFROM:-0800
TZOFFSETTO:-0700
TZNAME:PDT
DTSTART:20150308T100000
END:DAYLIGHT
BEGIN:STANDARD
TZOFFSETFROM:-0700
TZOFFSETTO:-0800
TZNAME:PST
DTSTART:20151101T090000
END:STANDARD
BEGIN:DAYLIGHT
TZOFFSETFROM:-0800
TZOFFSETTO:-0700
TZNAME:PDT
DTSTART:20160313T100000
END:DAYLIGHT
BEGIN:STANDARD
TZOFFSETFROM:-0700
TZOFFSETTO:-0800
TZNAME:PST
DTSTART:20161106T090000
END:STANDARD
BEGIN:DAYLIGHT
TZOFFSETFROM:-0800
TZOFFSETTO:-0700
TZNAME:PDT
DTSTART:20170312T100000
END:DAYLIGHT
BEGIN:STANDARD
TZOFFSETFROM:-0700
TZOFFSETTO:-0800
TZNAME:PST
DTSTART:20171105T090000
END:STANDARD
BEGIN:DAYLIGHT
TZOFFSETFROM:-0800
TZOFFSETTO:-0700
TZNAME:PDT
DTSTART:20180311T100000
END:DAYLIGHT
BEGIN:STANDARD
TZOFFSETFROM:-0700
TZOFFSETTO:-0800
TZNAME:PST
DTSTART:20181104T090000
END:STANDARD
BEGIN:DAYLIGHT
TZOFFSETFROM:-0800
TZOFFSETTO:-0700
TZNAME:PDT
DTSTART:20190310T100000
END:DAYLIGHT
BEGIN:STANDARD
TZOFFSETFROM:-0700
TZOFFSETTO:-0800
TZNAME:PST
DTSTART:20191103T090000
END:STANDARD
END:VTIMEZONE
BEGIN:VTIMEZONE
TZID:Asia/Shanghai
BEGIN:STANDARD
TZOFFSETFROM:+0800
TZOFFSETTO:+0800
TZNAME:CST
DTSTART:20150101T000000
END:STANDARD
END:VTIMEZONE
BEGIN:VEVENT
DTSTART;TZID=America/Los_Angeles:20181108T190000
DTEND;TZID=America/Los_Angeles:20181108T203000
DTSTAMP:20260423T051019
CREATED:20180206T211037Z
LAST-MODIFIED:20180930T211839Z
UID:3421-1541703600-1541709000@mukilteohistorical.org
SUMMARY:General Membership Meeting
DESCRIPTION:November General Membership Meeting (Meetings 2nd Thursday of Each Month) \nDate: Thursday\, November 8\, 2018\nTime: 7:00PM-8:30PM\nLocation: Rosehill Community Center\nTopic: Year in Review\, Volunteer Appreciation\, and Election\nSpeaker: Joanne Mulloy\, MHS President
URL:https://mukilteohistorical.org/event/general-membership-meeting-november/
LOCATION:Rosehill
CATEGORIES:Members,MHS General Meeting
END:VEVENT
BEGIN:VEVENT
DTSTART;TZID=America/Los_Angeles:20181011T190000
DTEND;TZID=America/Los_Angeles:20181011T203000
DTSTAMP:20260423T051019
CREATED:20180206T210733Z
LAST-MODIFIED:20180206T213359Z
UID:3419-1539284400-1539289800@mukilteohistorical.org
SUMMARY:General Membership Meeting
DESCRIPTION:October General Membership Meeting (Meetings 2nd Thursday of Each Month) \nDate: Thursday\, October 11\, 2018\nTime: 7:00PM-8:30PM\nLocation: Rosehill Community Center\nTopic: Dungeness Light Station\nSpeaker: Chad Kaiser
URL:https://mukilteohistorical.org/event/general-membership-meeting-october/
LOCATION:Rosehill
CATEGORIES:Members,MHS General Meeting
END:VEVENT
BEGIN:VEVENT
DTSTART;TZID=America/Los_Angeles:20180913T190000
DTEND;TZID=America/Los_Angeles:20180913T203000
DTSTAMP:20260423T051019
CREATED:20180206T210554Z
LAST-MODIFIED:20180206T213407Z
UID:3417-1536865200-1536870600@mukilteohistorical.org
SUMMARY:General Membership Meeting
DESCRIPTION:September General Membership Meeting (Meetings 2nd Thursday of Each Month) \nDate: Thursday\, September 13\, 2018\nTime: 7:00PM-8:30PM\nLocation: Rosehill Community Center\nTopic: City of Mukilteo Update\nSpeaker: Jennifer Gregerson
URL:https://mukilteohistorical.org/event/general-membership-meeting-september/
LOCATION:Rosehill
CATEGORIES:Members,MHS General Meeting
END:VEVENT
BEGIN:VEVENT
DTSTART;TZID=America/Los_Angeles:20180809T190000
DTEND;TZID=America/Los_Angeles:20180809T203000
DTSTAMP:20260423T051019
CREATED:20180206T210402Z
LAST-MODIFIED:20180206T213414Z
UID:3415-1533841200-1533846600@mukilteohistorical.org
SUMMARY:General Membership Meeting
DESCRIPTION:August General Membership Meeting (Meetings 2nd Thursday of Each Month) \nDate: Thursday\, August 9\, 2018\nTime: 7:00PM-8:30PM\nLocation: Rosehill Community Center\nTopic: Pioneer of the Year\nSpeaker: Anne Collier
URL:https://mukilteohistorical.org/event/general-membership-meeting-august/
LOCATION:Rosehill
CATEGORIES:Members,MHS General Meeting
END:VEVENT
BEGIN:VEVENT
DTSTART;TZID=America/Los_Angeles:20180712T190000
DTEND;TZID=America/Los_Angeles:20180712T203000
DTSTAMP:20260423T051019
CREATED:20180206T210155Z
LAST-MODIFIED:20180206T213423Z
UID:3413-1531422000-1531427400@mukilteohistorical.org
SUMMARY:General Membership Meeting
DESCRIPTION:July General Membership Meeting (Meetings 2nd Thursday of Each Month) \nDate: Thursday\, July 12\, 2018\nTime: 7:00PM-8:30PM\nLocation: Rosehill Community Center\nTopic: NOAA – Northwest Fisheries Science Center\nSpeaker: Kathleen Neely
URL:https://mukilteohistorical.org/event/general-membership-meeting-july/
LOCATION:Rosehill
CATEGORIES:Members,MHS General Meeting
END:VEVENT
BEGIN:VEVENT
DTSTART;TZID=America/Los_Angeles:20180614T190000
DTEND;TZID=America/Los_Angeles:20180614T203000
DTSTAMP:20260423T051019
CREATED:20180206T205845Z
LAST-MODIFIED:20180605T145029Z
UID:3411-1529002800-1529008200@mukilteohistorical.org
SUMMARY:General Membership Meeting
DESCRIPTION:June General Membership Meeting (Meetings 2nd Thursday of Each Month) \nDate: Thursday\, June 14\, 2018\nTime: 7:00PM-8:30PM\nLocation: Rosehill Fowler Room \nTopic: Wildflowers of Deception Pass\nSpeaker: Ranger Truly McCone \nNOTE MEETING LOCATION is Rosehill as usual.
URL:https://mukilteohistorical.org/event/general-membership-meeting-june/
LOCATION:Rosehill Community Center: Fowler Room\, 304 Lincoln Avenue\, Mukilteo\, WA\, 98275\, United States
CATEGORIES:Members,MHS General Meeting
END:VEVENT
BEGIN:VEVENT
DTSTART;TZID=America/Los_Angeles:20180602T090000
DTEND;TZID=America/Los_Angeles:20180602T120000
DTSTAMP:20260423T051019
CREATED:20180206T201346Z
LAST-MODIFIED:20180206T213445Z
UID:3397-1527930000-1527940800@mukilteohistorical.org
SUMMARY:Mass Planting
DESCRIPTION:
URL:https://mukilteohistorical.org/event/mass-planting/
LOCATION:Mukilteo Lighthouse Park\, 609 Front St\, Mukilteo\, WA\, 98275\, United States
CATEGORIES:Members
END:VEVENT
BEGIN:VEVENT
DTSTART;TZID=America/Los_Angeles:20180528T110000
DTEND;TZID=America/Los_Angeles:20180528T130000
DTSTAMP:20260423T051019
CREATED:20180206T201044Z
LAST-MODIFIED:20180206T213453Z
UID:3395-1527505200-1527512400@mukilteohistorical.org
SUMMARY:Memorial Day Remembrance Ceremony
DESCRIPTION:Memorial Day Remembrance Ceremony at Pioneer Cemetery (513 Webster St). Ceremony begins at 11:00AM.
URL:https://mukilteohistorical.org/event/memorial-day-remembrance-ceremony/
LOCATION:Mukilteo Pioneer Cemetery\, 513 Webster Street\, Mukilteo\, WA\, 98275\, United States
CATEGORIES:Members
END:VEVENT
BEGIN:VEVENT
DTSTART;TZID=America/Los_Angeles:20180519T100000
DTEND;TZID=America/Los_Angeles:20180519T130000
DTSTAMP:20260423T051020
CREATED:20180206T200321Z
LAST-MODIFIED:20180206T213459Z
UID:3393-1526724000-1526734800@mukilteohistorical.org
SUMMARY:Cemetery Cleaning
DESCRIPTION:Volunteer cleaning party begins at 10:00AM at Pioneer Cemetery (513 Webster St).
URL:https://mukilteohistorical.org/event/cemetery-cleaning/
LOCATION:Mukilteo Pioneer Cemetery\, 513 Webster Street\, Mukilteo\, WA\, 98275\, United States
CATEGORIES:Members
END:VEVENT
BEGIN:VEVENT
DTSTART;TZID=America/Los_Angeles:20180510T190000
DTEND;TZID=America/Los_Angeles:20180510T203000
DTSTAMP:20260423T051020
CREATED:20180206T205025Z
LAST-MODIFIED:20180206T213507Z
UID:3407-1525978800-1525984200@mukilteohistorical.org
SUMMARY:General Membership Meeting
DESCRIPTION:May General Membership Meeting (Meetings 2nd Thursday of Each Month) \nDate: Thursday\, May 10\, 2018\nTime: 7:00PM-8:30PM\nLocation: Rosehill Community Center\nTopic: MHS Archives\nSpeaker: Peter Anderson
URL:https://mukilteohistorical.org/event/general-membership-meeting-may/
LOCATION:Rosehill
CATEGORIES:Members,MHS General Meeting
END:VEVENT
BEGIN:VEVENT
DTSTART;TZID=America/Los_Angeles:20180412T190000
DTEND;TZID=America/Los_Angeles:20180412T203000
DTSTAMP:20260423T051020
CREATED:20180206T204653Z
LAST-MODIFIED:20180206T213514Z
UID:3405-1523559600-1523565000@mukilteohistorical.org
SUMMARY:General Membership Meeting
DESCRIPTION:April General Membership Meeting (Meetings 2nd Thursday of Each Month) \nDate: Thursday\, April 12\, 2018\nTime: 7:00PM-8:30PM\nLocation: Rosehill Community Center\nTopic: Port of Everett Activities Update\nSpeaker: Commissioner Glenn Bachman
URL:https://mukilteohistorical.org/event/general-membership-meeting-april/
LOCATION:Rosehill
CATEGORIES:Members,MHS General Meeting
END:VEVENT
BEGIN:VEVENT
DTSTART;TZID=America/Los_Angeles:20180407T113000
DTEND;TZID=America/Los_Angeles:20180407T170000
DTSTAMP:20260423T051020
CREATED:20180206T192115Z
LAST-MODIFIED:20180206T213522Z
UID:3385-1523100600-1523120400@mukilteohistorical.org
SUMMARY:Opening Day at the Lighthouse
DESCRIPTION:Lighthouse\, interpretive exhibits\, and gift shop open for the season. Tours and shopping available Saturdays and Sundays 12:00PM to 5:00PM through September.
URL:https://mukilteohistorical.org/event/opening-day-2/
LOCATION:Mukilteo Lighthouse Park\, 609 Front St\, Mukilteo\, WA\, 98275\, United States
CATEGORIES:Members
END:VEVENT
BEGIN:VEVENT
DTSTART;TZID=America/Los_Angeles:20180324T100000
DTEND;TZID=America/Los_Angeles:20180324T130000
DTSTAMP:20260423T051020
CREATED:20180206T195713Z
LAST-MODIFIED:20180206T213530Z
UID:3390-1521885600-1521896400@mukilteohistorical.org
SUMMARY:Cleaning Day at the Lighthouse
DESCRIPTION:
URL:https://mukilteohistorical.org/event/cleaning-day/
LOCATION:Mukilteo Lighthouse Park\, 609 Front St\, Mukilteo\, WA\, 98275\, United States
CATEGORIES:Members
END:VEVENT
BEGIN:VEVENT
DTSTART;TZID=America/Los_Angeles:20180308T190000
DTEND;TZID=America/Los_Angeles:20180308T203000
DTSTAMP:20260423T051020
CREATED:20180206T204301Z
LAST-MODIFIED:20180224T003813Z
UID:3401-1520535600-1520541000@mukilteohistorical.org
SUMMARY:General Membership Meeting
DESCRIPTION:March General Membership Meeting (Meetings 2nd Thursday of Each Month) \nDate: Thursday\, March 8\, 2018\nTime: 7:00PM-8:30PM\nLocation: Rosehill Community Center\nTopic: Mukilteo Garden and Food Bank\nSpeaker: Cristina  Mychhajiliw \nMukilteo Community Garden and how it works with local Food Banks.  Our speaker says she will leave time for several questions.
URL:https://mukilteohistorical.org/event/general-membership-meeting-march/
LOCATION:Rosehill
CATEGORIES:Members,MHS General Meeting
END:VEVENT
BEGIN:VEVENT
DTSTART;TZID=America/Los_Angeles:20180208T190000
DTEND;TZID=America/Los_Angeles:20180208T203000
DTSTAMP:20260423T051020
CREATED:20180203T201353Z
LAST-MODIFIED:20180206T212500Z
UID:3383-1518116400-1518121800@mukilteohistorical.org
SUMMARY:General Membership Meeting
DESCRIPTION:New Mukilteo Ferry Terminal – Environmental Project – Speaker\, Rick Huey
URL:https://mukilteohistorical.org/event/general-membership-meeting-february/
LOCATION:Rosehill
CATEGORIES:Members,MHS General Meeting
END:VEVENT
BEGIN:VEVENT
DTSTART;TZID=America/Los_Angeles:20170603T093000
DTEND;TZID=America/Los_Angeles:20170603T113000
DTSTAMP:20260423T051020
CREATED:20170503T182549Z
LAST-MODIFIED:20170503T182549Z
UID:3285-1496482200-1496489400@mukilteohistorical.org
SUMMARY:Planting Day
DESCRIPTION:Fill the Lighthouse Gardens with flowers.  Bring your work gardening gloves.  Kneepads provided.
URL:https://mukilteohistorical.org/event/planting-day-2/
LOCATION:Mukilteo Lighthouse Park\, 609 Front St\, Mukilteo\, WA\, 98275\, United States
CATEGORIES:Members
END:VEVENT
BEGIN:VEVENT
DTSTART;TZID=Asia/Shanghai:20160319T130000
DTEND;TZID=Asia/Shanghai:20160319T150000
DTSTAMP:20260423T051020
CREATED:20160315T004726Z
LAST-MODIFIED:20161026T161750Z
UID:1785-1458392400-1458399600@mukilteohistorical.org
SUMMARY:Lighthouse Docent Training
DESCRIPTION:
URL:https://mukilteohistorical.org/event/lighthouse-docent-training/
LOCATION:Light Station
CATEGORIES:Members
END:VEVENT
BEGIN:VEVENT
DTSTART;TZID=Asia/Shanghai:20160319T130000
DTEND;TZID=Asia/Shanghai:20160319T150000
DTSTAMP:20260423T051020
CREATED:20160315T004726Z
LAST-MODIFIED:20161026T161750Z
UID:2696-1458392400-1458399600@mukilteohistorical.org
SUMMARY:Lighthouse Docent Training
DESCRIPTION:
URL:https://mukilteohistorical.org/event/lighthouse-docent-training-2/
LOCATION:Light Station
CATEGORIES:Members
END:VEVENT
BEGIN:VEVENT
DTSTART;TZID=America/Los_Angeles:20160305T100000
DTEND;TZID=America/Los_Angeles:20160305T120000
DTSTAMP:20260423T051020
CREATED:20161026T161454Z
LAST-MODIFIED:20161026T161713Z
UID:3147-1457172000-1457179200@mukilteohistorical.org
SUMMARY:2016 Lighthouse Docent Training
DESCRIPTION:Interested in becoming a lighthouse docent?  Enjoy meeting new people? Come join in a training session of volunteers. Sessions to be held at the light station on March 5th at 10am and March 19th at 1pm. For more information leave a message at 425-513-9602 or email training@mukilteohistorical.org.
URL:https://mukilteohistorical.org/event/2016-volunteer-training/
LOCATION:Light Station
CATEGORIES:Members
ORGANIZER;CN="":MAILTO:training@mukilteohistorical.org
END:VEVENT
END:VCALENDAR