BEGIN:VCALENDAR
VERSION:2.0
PRODID:-//Mukilteo Historical Society - ECPv6.15.20//NONSGML v1.0//EN
CALSCALE:GREGORIAN
METHOD:PUBLISH
X-WR-CALNAME:Mukilteo Historical Society
X-ORIGINAL-URL:https://mukilteohistorical.org
X-WR-CALDESC:Events for Mukilteo Historical Society
REFRESH-INTERVAL;VALUE=DURATION:PT1H
X-Robots-Tag:noindex
X-PUBLISHED-TTL:PT1H
BEGIN:VTIMEZONE
TZID:America/Los_Angeles
BEGIN:DAYLIGHT
TZOFFSETFROM:-0800
TZOFFSETTO:-0700
TZNAME:PDT
DTSTART:20150308T100000
END:DAYLIGHT
BEGIN:STANDARD
TZOFFSETFROM:-0700
TZOFFSETTO:-0800
TZNAME:PST
DTSTART:20151101T090000
END:STANDARD
BEGIN:DAYLIGHT
TZOFFSETFROM:-0800
TZOFFSETTO:-0700
TZNAME:PDT
DTSTART:20160313T100000
END:DAYLIGHT
BEGIN:STANDARD
TZOFFSETFROM:-0700
TZOFFSETTO:-0800
TZNAME:PST
DTSTART:20161106T090000
END:STANDARD
BEGIN:DAYLIGHT
TZOFFSETFROM:-0800
TZOFFSETTO:-0700
TZNAME:PDT
DTSTART:20170312T100000
END:DAYLIGHT
BEGIN:STANDARD
TZOFFSETFROM:-0700
TZOFFSETTO:-0800
TZNAME:PST
DTSTART:20171105T090000
END:STANDARD
BEGIN:DAYLIGHT
TZOFFSETFROM:-0800
TZOFFSETTO:-0700
TZNAME:PDT
DTSTART:20180311T100000
END:DAYLIGHT
BEGIN:STANDARD
TZOFFSETFROM:-0700
TZOFFSETTO:-0800
TZNAME:PST
DTSTART:20181104T090000
END:STANDARD
BEGIN:DAYLIGHT
TZOFFSETFROM:-0800
TZOFFSETTO:-0700
TZNAME:PDT
DTSTART:20190310T100000
END:DAYLIGHT
BEGIN:STANDARD
TZOFFSETFROM:-0700
TZOFFSETTO:-0800
TZNAME:PST
DTSTART:20191103T090000
END:STANDARD
END:VTIMEZONE
BEGIN:VEVENT
DTSTART;TZID=America/Los_Angeles:20180528T110000
DTEND;TZID=America/Los_Angeles:20180528T130000
DTSTAMP:20260423T013319
CREATED:20180206T201044Z
LAST-MODIFIED:20180206T213453Z
UID:3395-1527505200-1527512400@mukilteohistorical.org
SUMMARY:Memorial Day Remembrance Ceremony
DESCRIPTION:Memorial Day Remembrance Ceremony at Pioneer Cemetery (513 Webster St). Ceremony begins at 11:00AM.
URL:https://mukilteohistorical.org/event/memorial-day-remembrance-ceremony/
LOCATION:Mukilteo Pioneer Cemetery\, 513 Webster Street\, Mukilteo\, WA\, 98275\, United States
CATEGORIES:Members
END:VEVENT
BEGIN:VEVENT
DTSTART;TZID=America/Los_Angeles:20180519T100000
DTEND;TZID=America/Los_Angeles:20180519T130000
DTSTAMP:20260423T013319
CREATED:20180206T200321Z
LAST-MODIFIED:20180206T213459Z
UID:3393-1526724000-1526734800@mukilteohistorical.org
SUMMARY:Cemetery Cleaning
DESCRIPTION:Volunteer cleaning party begins at 10:00AM at Pioneer Cemetery (513 Webster St).
URL:https://mukilteohistorical.org/event/cemetery-cleaning/
LOCATION:Mukilteo Pioneer Cemetery\, 513 Webster Street\, Mukilteo\, WA\, 98275\, United States
CATEGORIES:Members
END:VEVENT
BEGIN:VEVENT
DTSTART;TZID=America/Los_Angeles:20180510T190000
DTEND;TZID=America/Los_Angeles:20180510T203000
DTSTAMP:20260423T013319
CREATED:20180206T205025Z
LAST-MODIFIED:20180206T213507Z
UID:3407-1525978800-1525984200@mukilteohistorical.org
SUMMARY:General Membership Meeting
DESCRIPTION:May General Membership Meeting (Meetings 2nd Thursday of Each Month) \nDate: Thursday\, May 10\, 2018\nTime: 7:00PM-8:30PM\nLocation: Rosehill Community Center\nTopic: MHS Archives\nSpeaker: Peter Anderson
URL:https://mukilteohistorical.org/event/general-membership-meeting-may/
LOCATION:Rosehill
CATEGORIES:Members,MHS General Meeting
END:VEVENT
BEGIN:VEVENT
DTSTART;TZID=America/Los_Angeles:20180412T190000
DTEND;TZID=America/Los_Angeles:20180412T203000
DTSTAMP:20260423T013319
CREATED:20180206T204653Z
LAST-MODIFIED:20180206T213514Z
UID:3405-1523559600-1523565000@mukilteohistorical.org
SUMMARY:General Membership Meeting
DESCRIPTION:April General Membership Meeting (Meetings 2nd Thursday of Each Month) \nDate: Thursday\, April 12\, 2018\nTime: 7:00PM-8:30PM\nLocation: Rosehill Community Center\nTopic: Port of Everett Activities Update\nSpeaker: Commissioner Glenn Bachman
URL:https://mukilteohistorical.org/event/general-membership-meeting-april/
LOCATION:Rosehill
CATEGORIES:Members,MHS General Meeting
END:VEVENT
BEGIN:VEVENT
DTSTART;TZID=America/Los_Angeles:20180407T113000
DTEND;TZID=America/Los_Angeles:20180407T170000
DTSTAMP:20260423T013319
CREATED:20180206T192115Z
LAST-MODIFIED:20180206T213522Z
UID:3385-1523100600-1523120400@mukilteohistorical.org
SUMMARY:Opening Day at the Lighthouse
DESCRIPTION:Lighthouse\, interpretive exhibits\, and gift shop open for the season. Tours and shopping available Saturdays and Sundays 12:00PM to 5:00PM through September.
URL:https://mukilteohistorical.org/event/opening-day-2/
LOCATION:Mukilteo Lighthouse Park\, 609 Front St\, Mukilteo\, WA\, 98275\, United States
CATEGORIES:Members
END:VEVENT
BEGIN:VEVENT
DTSTART;TZID=America/Los_Angeles:20180324T100000
DTEND;TZID=America/Los_Angeles:20180324T130000
DTSTAMP:20260423T013319
CREATED:20180206T195713Z
LAST-MODIFIED:20180206T213530Z
UID:3390-1521885600-1521896400@mukilteohistorical.org
SUMMARY:Cleaning Day at the Lighthouse
DESCRIPTION:
URL:https://mukilteohistorical.org/event/cleaning-day/
LOCATION:Mukilteo Lighthouse Park\, 609 Front St\, Mukilteo\, WA\, 98275\, United States
CATEGORIES:Members
END:VEVENT
BEGIN:VEVENT
DTSTART;TZID=America/Los_Angeles:20180308T190000
DTEND;TZID=America/Los_Angeles:20180308T203000
DTSTAMP:20260423T013319
CREATED:20180206T204301Z
LAST-MODIFIED:20180224T003813Z
UID:3401-1520535600-1520541000@mukilteohistorical.org
SUMMARY:General Membership Meeting
DESCRIPTION:March General Membership Meeting (Meetings 2nd Thursday of Each Month) \nDate: Thursday\, March 8\, 2018\nTime: 7:00PM-8:30PM\nLocation: Rosehill Community Center\nTopic: Mukilteo Garden and Food Bank\nSpeaker: Cristina  Mychhajiliw \nMukilteo Community Garden and how it works with local Food Banks.  Our speaker says she will leave time for several questions.
URL:https://mukilteohistorical.org/event/general-membership-meeting-march/
LOCATION:Rosehill
CATEGORIES:Members,MHS General Meeting
END:VEVENT
BEGIN:VEVENT
DTSTART;TZID=America/Los_Angeles:20180208T190000
DTEND;TZID=America/Los_Angeles:20180208T203000
DTSTAMP:20260423T013319
CREATED:20180203T201353Z
LAST-MODIFIED:20180206T212500Z
UID:3383-1518116400-1518121800@mukilteohistorical.org
SUMMARY:General Membership Meeting
DESCRIPTION:New Mukilteo Ferry Terminal – Environmental Project – Speaker\, Rick Huey
URL:https://mukilteohistorical.org/event/general-membership-meeting-february/
LOCATION:Rosehill
CATEGORIES:Members,MHS General Meeting
END:VEVENT
BEGIN:VEVENT
DTSTART;TZID=America/Los_Angeles:20180111T190000
DTEND;TZID=America/Los_Angeles:20180111T203000
DTSTAMP:20260423T013319
CREATED:20180108T201841Z
LAST-MODIFIED:20180206T212509Z
UID:3378-1515697200-1515702600@mukilteohistorical.org
SUMMARY:General Membership Meeting
DESCRIPTION:
URL:https://mukilteohistorical.org/event/general-membership-meeting/
LOCATION:Rosehill
END:VEVENT
BEGIN:VEVENT
DTSTART;TZID=America/Los_Angeles:20171209T120000
DTEND;TZID=America/Los_Angeles:20171209T160000
DTSTAMP:20260423T013319
CREATED:20171109T002855Z
LAST-MODIFIED:20171109T002855Z
UID:3357-1512820800-1512835200@mukilteohistorical.org
SUMMARY:Gift Shop Open for Holiday Shopping
DESCRIPTION:This will be your last chance to get that Lighthouse shirt or mermaid or other memento you’ve been thinking of.
URL:https://mukilteohistorical.org/event/gift-shop-open-holiday-shopping-2/
LOCATION:Gift Shop in Quarters B\, Lighthouse Park\, Mukilteo\, WA\, 98275\, United States
END:VEVENT
BEGIN:VEVENT
DTSTART;TZID=America/Los_Angeles:20171202T183000
DTEND;TZID=America/Los_Angeles:20171202T200000
DTSTAMP:20260423T013319
CREATED:20171110T193649Z
LAST-MODIFIED:20171110T193649Z
UID:3359-1512239400-1512244800@mukilteohistorical.org
SUMMARY:Christmas Party Potluck
DESCRIPTION:Every member is welcome.    Ham and beverages will be provided\, but side dishes\, salads\, and desserts will be greatly appreciated.
URL:https://mukilteohistorical.org/event/christmas-party-potluck/
LOCATION:Rosehill – Christensen Room\, Mukilteo\, WA\, 98275\, United States
END:VEVENT
BEGIN:VEVENT
DTSTART;TZID=America/Los_Angeles:20171202T120000
DTEND;TZID=America/Los_Angeles:20171202T160000
DTSTAMP:20260423T013319
CREATED:20171109T001444Z
LAST-MODIFIED:20171109T001707Z
UID:3354-1512216000-1512230400@mukilteohistorical.org
SUMMARY:Gift Shop Open for Holiday Shopping
DESCRIPTION:Stop in and pick out a special gift for someone and support the work of the Society.
URL:https://mukilteohistorical.org/event/gift-shop-open-holiday-shopping/
LOCATION:Gift Shop in Quarters B\, Lighthouse Park\, Mukilteo\, WA\, 98275\, United States
END:VEVENT
BEGIN:VEVENT
DTSTART;TZID=America/Los_Angeles:20171109T190000
DTEND;TZID=America/Los_Angeles:20171109T203000
DTSTAMP:20260423T013319
CREATED:20170503T180956Z
LAST-MODIFIED:20170608T225558Z
UID:3276-1510254000-1510259400@mukilteohistorical.org
SUMMARY:Regular Membership Meeting
DESCRIPTION:Year in Review/Volunteer Recognition/Election
URL:https://mukilteohistorical.org/event/holiday-party-2/
LOCATION:Rosehill Community Center: Fowler Room\, 304 Lincoln Avenue\, Mukilteo\, WA\, 98275\, United States
CATEGORIES:MHS General Meeting
END:VEVENT
BEGIN:VEVENT
DTSTART;TZID=America/Los_Angeles:20171012T190000
DTEND;TZID=America/Los_Angeles:20171012T203000
DTSTAMP:20260423T013319
CREATED:20170503T180459Z
LAST-MODIFIED:20170616T174834Z
UID:3274-1507834800-1507840200@mukilteohistorical.org
SUMMARY:Regular Membership Meeting
DESCRIPTION:Speaker: Chad Kaiser from New Dungeness Lighthouse Society
URL:https://mukilteohistorical.org/event/regular-membership-meeting-7/
LOCATION:Rosehill Community Center: Fowler Room\, 304 Lincoln Avenue\, Mukilteo\, WA\, 98275\, United States
CATEGORIES:MHS General Meeting
END:VEVENT
BEGIN:VEVENT
DTSTART;TZID=America/Los_Angeles:20170914T190000
DTEND;TZID=America/Los_Angeles:20170914T203000
DTSTAMP:20260423T013319
CREATED:20170503T180012Z
LAST-MODIFIED:20170616T174712Z
UID:3272-1505415600-1505421000@mukilteohistorical.org
SUMMARY:Regular Membership Meeting
DESCRIPTION:Speaker:  Mayor J. Gregerson  Topic: City of Mukilteo Update
URL:https://mukilteohistorical.org/event/regular-membership-meeting-6/
LOCATION:Rosehill Community Center: Fowler Room\, 304 Lincoln Avenue\, Mukilteo\, WA\, 98275\, United States
END:VEVENT
BEGIN:VEVENT
DTSTART;TZID=America/Los_Angeles:20170810T190000
DTEND;TZID=America/Los_Angeles:20170810T203000
DTSTAMP:20260423T013319
CREATED:20170503T175632Z
LAST-MODIFIED:20170616T174610Z
UID:3270-1502391600-1502397000@mukilteohistorical.org
SUMMARY:Regular Membership Meeting
DESCRIPTION:Announcement and recognition of Pioneer of the Year
URL:https://mukilteohistorical.org/event/regular-membership-meeting-5/
LOCATION:Rosehill Community Center: Fowler Room\, 304 Lincoln Avenue\, Mukilteo\, WA\, 98275\, United States
CATEGORIES:MHS General Meeting
END:VEVENT
BEGIN:VEVENT
DTSTART;TZID=America/Los_Angeles:20170713T190000
DTEND;TZID=America/Los_Angeles:20170713T203000
DTSTAMP:20260423T013319
CREATED:20170616T173921Z
LAST-MODIFIED:20170616T174404Z
UID:3314-1499972400-1499977800@mukilteohistorical.org
SUMMARY:Regular Membership Meeting
DESCRIPTION:Speaker:  Ranger Rick  Topic:  Invertebrates and the stories they tell
URL:https://mukilteohistorical.org/event/regular-membership-meeting-8/
LOCATION:Rosehill Community Center: Fowler Room\, 304 Lincoln Avenue\, Mukilteo\, WA\, 98275\, United States
END:VEVENT
BEGIN:VEVENT
DTSTART;TZID=America/Los_Angeles:20170608T190000
DTEND;TZID=America/Los_Angeles:20170608T203000
DTSTAMP:20260423T013319
CREATED:20170503T174735Z
LAST-MODIFIED:20170608T225126Z
UID:3266-1496948400-1496953800@mukilteohistorical.org
SUMMARY:Regular Membership Meeting
DESCRIPTION:Speaker:  Al Freidrich  Topic: History of Lights and Fresnel Lenses
URL:https://mukilteohistorical.org/event/regular-membership-meeting-3/
LOCATION:Rosehill Community Center: Fowler Room\, 304 Lincoln Avenue\, Mukilteo\, WA\, 98275\, United States
END:VEVENT
BEGIN:VEVENT
DTSTART;TZID=America/Los_Angeles:20170603T093000
DTEND;TZID=America/Los_Angeles:20170603T113000
DTSTAMP:20260423T013319
CREATED:20170503T182549Z
LAST-MODIFIED:20170503T182549Z
UID:3285-1496482200-1496489400@mukilteohistorical.org
SUMMARY:Planting Day
DESCRIPTION:Fill the Lighthouse Gardens with flowers.  Bring your work gardening gloves.  Kneepads provided.
URL:https://mukilteohistorical.org/event/planting-day-2/
LOCATION:Mukilteo Lighthouse Park\, 609 Front St\, Mukilteo\, WA\, 98275\, United States
CATEGORIES:Members
END:VEVENT
BEGIN:VEVENT
DTSTART;TZID=America/Los_Angeles:20170529T100000
DTEND;TZID=America/Los_Angeles:20170529T103000
DTSTAMP:20260423T013319
CREATED:20170503T182148Z
LAST-MODIFIED:20170503T182148Z
UID:3283-1496052000-1496053800@mukilteohistorical.org
SUMMARY:Memorial Day Ceremony
DESCRIPTION:
URL:https://mukilteohistorical.org/event/memorial-day-ceremony-2/
LOCATION:Mukilteo Pioneer Cemetery\, 513 Webster Street\, Mukilteo\, WA\, 98275\, United States
END:VEVENT
BEGIN:VEVENT
DTSTART;TZID=America/Los_Angeles:20170511T190000
DTEND;TZID=America/Los_Angeles:20170511T203000
DTSTAMP:20260423T013319
CREATED:20170401T212446Z
LAST-MODIFIED:20170503T181523Z
UID:3255-1494529200-1494534600@mukilteohistorical.org
SUMMARY:Regular membership meeting
DESCRIPTION:Our speaker will be Deborah Cuyler.  Her subject will be “Haunted Snohomish” \nA short business meeting will follow.
URL:https://mukilteohistorical.org/event/regular-membership-meeting-2/
LOCATION:Rosehill Community Center: Fowler Room\, 304 Lincoln Avenue\, Mukilteo\, WA\, 98275\, United States
END:VEVENT
BEGIN:VEVENT
DTSTART;TZID=America/Los_Angeles:20170414T191500
DTEND;TZID=America/Los_Angeles:20170414T203000
DTSTAMP:20260423T013319
CREATED:20170401T211904Z
LAST-MODIFIED:20170404T163408Z
UID:3253-1492197300-1492201800@mukilteohistorical.org
SUMMARY:Regular membership meeting
DESCRIPTION:Our Speaker will be Richard Blumenthal on the subject “The Exploration of Puget Sound by Capt. George Vancouver” \nA short business meeting will follow.
URL:https://mukilteohistorical.org/event/regular-membership-meeting/
LOCATION:Rosehill Community Center: Fowler Room\, 304 Lincoln Avenue\, Mukilteo\, WA\, 98275\, United States
END:VEVENT
BEGIN:VEVENT
DTSTART;TZID=America/Los_Angeles:20170401T120000
DTEND;TZID=America/Los_Angeles:20170401T121500
DTSTAMP:20260423T013319
CREATED:20170401T211218Z
LAST-MODIFIED:20170401T211218Z
UID:3251-1491048000-1491048900@mukilteohistorical.org
SUMMARY:Opening Day
DESCRIPTION:Join Mary Fowler and our Lighthouse Keeper in welcoming a new season.  Both the Tower and Gift Shop will be open.
URL:https://mukilteohistorical.org/event/opening-day/
LOCATION:Lighthouse
END:VEVENT
BEGIN:VEVENT
DTSTART;TZID=America/Los_Angeles:20170311T100000
DTEND;TZID=America/Los_Angeles:20170311T120000
DTSTAMP:20260423T013319
CREATED:20170303T023641Z
LAST-MODIFIED:20170309T011835Z
UID:3235-1489226400-1489233600@mukilteohistorical.org
SUMMARY:Docent Training
DESCRIPTION:10 am to noon
URL:https://mukilteohistorical.org/event/planting-day/
LOCATION:Mukilteo Lighthouse Park\, 609 Front St\, Mukilteo\, WA\, 98275\, United States
END:VEVENT
BEGIN:VEVENT
DTSTART;TZID=America/Los_Angeles:20170311T100000
DTEND;TZID=America/Los_Angeles:20170311T100000
DTSTAMP:20260423T013319
CREATED:20170309T012029Z
LAST-MODIFIED:20170309T012531Z
UID:3241-1489226400-1489226400@mukilteohistorical.org
SUMMARY:Entrance Planting Day
DESCRIPTION:We’ll be planting geraniums from the Lighthouse to the front gate.
URL:https://mukilteohistorical.org/event/entrance-planting-day/
LOCATION:Light Station
END:VEVENT
BEGIN:VEVENT
DTSTART;VALUE=DATE:20170304
DTEND;VALUE=DATE:20170305
DTSTAMP:20260423T013319
CREATED:20170303T012830Z
LAST-MODIFIED:20170303T012830Z
UID:3229-1488585600-1488671999@mukilteohistorical.org
SUMMARY:Test 1
DESCRIPTION:tests content here
URL:https://mukilteohistorical.org/event/test-1/
LOCATION:Mukilteo Lighthouse Park\, 609 Front St\, Mukilteo\, WA\, 98275\, United States
END:VEVENT
BEGIN:VEVENT
DTSTART;TZID=America/Los_Angeles:20161208T191500
DTEND;TZID=America/Los_Angeles:20161208T204500
DTSTAMP:20260423T013319
CREATED:20161024T201403Z
LAST-MODIFIED:20161026T172940Z
UID:3082-1481224500-1481229900@mukilteohistorical.org
SUMMARY:Holiday Party
DESCRIPTION:Details TBA
URL:https://mukilteohistorical.org/event/holiday-party/
LOCATION:Rosehill Community Center: Fowler Room\, 304 Lincoln Avenue\, Mukilteo\, WA\, 98275\, United States
CATEGORIES:Holiday Party
END:VEVENT
BEGIN:VEVENT
DTSTART;TZID=America/Los_Angeles:20161110T191500
DTEND;TZID=America/Los_Angeles:20161110T204500
DTSTAMP:20260423T013319
CREATED:20161024T201152Z
LAST-MODIFIED:20161026T173004Z
UID:3080-1478805300-1478810700@mukilteohistorical.org
SUMMARY:General Meeting: Year in Review/Volunteer Appreciation/Election
DESCRIPTION:Mukilteo Historical Society General Meeting \nTopics: \n\nYear in Review\nVolunteer Appreciation\nElection\n\nSpeaker: President Don Saul
URL:https://mukilteohistorical.org/event/general-meeting-year-in-reviewvolunteer-appreciationelection/
LOCATION:Rosehill Community Center: Fowler Room\, 304 Lincoln Avenue\, Mukilteo\, WA\, 98275\, United States
CATEGORIES:MHS General Meeting
END:VEVENT
BEGIN:VEVENT
DTSTART;TZID=America/Los_Angeles:20161013T071500
DTEND;TZID=America/Los_Angeles:20161013T204500
DTSTAMP:20260423T013319
CREATED:20161024T200844Z
LAST-MODIFIED:20161026T161749Z
UID:3077-1476342900-1476391500@mukilteohistorical.org
SUMMARY:General Meeting: The Salish Sea – 75 million years ago
DESCRIPTION:Topic: The Salish Sea – 75 million years ago
URL:https://mukilteohistorical.org/event/general-meeting-the-salish-sea-75-million-years-ago/
LOCATION:Rosehill Community Center: Fowler Room\, 304 Lincoln Avenue\, Mukilteo\, WA\, 98275\, United States
CATEGORIES:MHS General Meeting
END:VEVENT
BEGIN:VEVENT
DTSTART;TZID=America/Los_Angeles:20160909T150000
DTEND;TZID=America/Los_Angeles:20160911T170000
DTSTAMP:20260423T013319
CREATED:20160909T154430Z
LAST-MODIFIED:20161026T161749Z
UID:2900-1473433200-1473613200@mukilteohistorical.org
SUMMARY:Mukilteo Lighthouse Festival
DESCRIPTION:The Mukilteo Lighthouse Festival brings the community together through entertainment and celebration. \nFestival Dates: September 9\, 10\, 11\, 2016 \nVisit the festival website for more details.
URL:https://mukilteohistorical.org/event/mukilteo-lighthouse-festival/
LOCATION:Mukilteo Lighthouse Park\, 609 Front St\, Mukilteo\, WA\, 98275\, United States
ATTACH;FMTTYPE=image/jpeg:https://mukilteohistorical.org/wp-content/uploads/2016/09/SamFireworks2013Pic-300x184.jpg
END:VEVENT
END:VCALENDAR