BEGIN:VCALENDAR
VERSION:2.0
PRODID:-//Mukilteo Historical Society - ECPv6.15.20//NONSGML v1.0//EN
CALSCALE:GREGORIAN
METHOD:PUBLISH
X-WR-CALNAME:Mukilteo Historical Society
X-ORIGINAL-URL:https://mukilteohistorical.org
X-WR-CALDESC:Events for Mukilteo Historical Society
REFRESH-INTERVAL;VALUE=DURATION:PT1H
X-Robots-Tag:noindex
X-PUBLISHED-TTL:PT1H
BEGIN:VTIMEZONE
TZID:UTC
BEGIN:STANDARD
TZOFFSETFROM:+0000
TZOFFSETTO:+0000
TZNAME:UTC
DTSTART:20150101T000000
END:STANDARD
END:VTIMEZONE
BEGIN:VTIMEZONE
TZID:Asia/Shanghai
BEGIN:STANDARD
TZOFFSETFROM:+0800
TZOFFSETTO:+0800
TZNAME:CST
DTSTART:20150101T000000
END:STANDARD
END:VTIMEZONE
BEGIN:VTIMEZONE
TZID:America/Los_Angeles
BEGIN:DAYLIGHT
TZOFFSETFROM:-0800
TZOFFSETTO:-0700
TZNAME:PDT
DTSTART:20150308T100000
END:DAYLIGHT
BEGIN:STANDARD
TZOFFSETFROM:-0700
TZOFFSETTO:-0800
TZNAME:PST
DTSTART:20151101T090000
END:STANDARD
BEGIN:DAYLIGHT
TZOFFSETFROM:-0800
TZOFFSETTO:-0700
TZNAME:PDT
DTSTART:20160313T100000
END:DAYLIGHT
BEGIN:STANDARD
TZOFFSETFROM:-0700
TZOFFSETTO:-0800
TZNAME:PST
DTSTART:20161106T090000
END:STANDARD
BEGIN:DAYLIGHT
TZOFFSETFROM:-0800
TZOFFSETTO:-0700
TZNAME:PDT
DTSTART:20170312T100000
END:DAYLIGHT
BEGIN:STANDARD
TZOFFSETFROM:-0700
TZOFFSETTO:-0800
TZNAME:PST
DTSTART:20171105T090000
END:STANDARD
END:VTIMEZONE
BEGIN:VEVENT
DTSTART;TZID=UTC:20160414T191500
DTEND;TZID=UTC:20160414T210000
DTSTAMP:20260423T094720
CREATED:20160315T031349Z
LAST-MODIFIED:20161026T161749Z
UID:1811-1460661300-1460667600@mukilteohistorical.org
SUMMARY:April Members Meeting
DESCRIPTION:
URL:https://mukilteohistorical.org/event/april-members-meeting/
LOCATION:Rosehill
END:VEVENT
BEGIN:VEVENT
DTSTART;TZID=UTC:20160414T191500
DTEND;TZID=UTC:20160414T210000
DTSTAMP:20260423T094720
CREATED:20160315T031349Z
LAST-MODIFIED:20161026T161749Z
UID:2701-1460661300-1460667600@mukilteohistorical.org
SUMMARY:April Members Meeting
DESCRIPTION:
URL:https://mukilteohistorical.org/event/april-members-meeting-2/
LOCATION:Rosehill
END:VEVENT
BEGIN:VEVENT
DTSTART;TZID=Asia/Shanghai:20160402T120000
DTEND;TZID=Asia/Shanghai:20160402T140000
DTSTAMP:20260423T094720
CREATED:20160315T031004Z
LAST-MODIFIED:20161026T161750Z
UID:1807-1459598400-1459605600@mukilteohistorical.org
SUMMARY:Lighthouse Opening Ceremony 2016
DESCRIPTION:
URL:https://mukilteohistorical.org/event/lighthouse-opening-ceremony-2016/
LOCATION:Light Station
END:VEVENT
BEGIN:VEVENT
DTSTART;TZID=Asia/Shanghai:20160402T120000
DTEND;TZID=Asia/Shanghai:20160402T140000
DTSTAMP:20260423T094720
CREATED:20160315T031004Z
LAST-MODIFIED:20161026T161750Z
UID:2698-1459598400-1459605600@mukilteohistorical.org
SUMMARY:Lighthouse Opening Ceremony 2016
DESCRIPTION:
URL:https://mukilteohistorical.org/event/lighthouse-opening-ceremony-2016-2/
LOCATION:Light Station
END:VEVENT
BEGIN:VEVENT
DTSTART;TZID=Asia/Shanghai:20160331T181500
DTEND;TZID=Asia/Shanghai:20160331T201500
DTSTAMP:20260423T094720
CREATED:20160315T031249Z
LAST-MODIFIED:20161026T161750Z
UID:1809-1459448100-1459455300@mukilteohistorical.org
SUMMARY:March Board Meeting
DESCRIPTION:
URL:https://mukilteohistorical.org/event/march-board-meeting/
LOCATION:Qtrs B
END:VEVENT
BEGIN:VEVENT
DTSTART;TZID=Asia/Shanghai:20160331T181500
DTEND;TZID=Asia/Shanghai:20160331T201500
DTSTAMP:20260423T094720
CREATED:20160315T031249Z
LAST-MODIFIED:20161026T161750Z
UID:2700-1459448100-1459455300@mukilteohistorical.org
SUMMARY:March Board Meeting
DESCRIPTION:
URL:https://mukilteohistorical.org/event/march-board-meeting-2/
LOCATION:Qtrs B
END:VEVENT
BEGIN:VEVENT
DTSTART;TZID=Asia/Shanghai:20160326T100000
DTEND;TZID=Asia/Shanghai:20160326T140000
DTSTAMP:20260423T094720
CREATED:20160315T030703Z
LAST-MODIFIED:20161026T161750Z
UID:1806-1458986400-1459000800@mukilteohistorical.org
SUMMARY:Lighthouse Clean-up
DESCRIPTION:
URL:https://mukilteohistorical.org/event/lighthouse-clean-up/
LOCATION:Light Station
END:VEVENT
BEGIN:VEVENT
DTSTART;TZID=Asia/Shanghai:20160326T100000
DTEND;TZID=Asia/Shanghai:20160326T140000
DTSTAMP:20260423T094720
CREATED:20160315T030703Z
LAST-MODIFIED:20161026T161750Z
UID:2697-1458986400-1459000800@mukilteohistorical.org
SUMMARY:Lighthouse Clean-up
DESCRIPTION:
URL:https://mukilteohistorical.org/event/lighthouse-clean-up-2/
LOCATION:Light Station
END:VEVENT
BEGIN:VEVENT
DTSTART;TZID=Asia/Shanghai:20160319T130000
DTEND;TZID=Asia/Shanghai:20160319T150000
DTSTAMP:20260423T094720
CREATED:20160315T004726Z
LAST-MODIFIED:20161026T161750Z
UID:1785-1458392400-1458399600@mukilteohistorical.org
SUMMARY:Lighthouse Docent Training
DESCRIPTION:
URL:https://mukilteohistorical.org/event/lighthouse-docent-training/
LOCATION:Light Station
CATEGORIES:Members
END:VEVENT
BEGIN:VEVENT
DTSTART;TZID=Asia/Shanghai:20160319T130000
DTEND;TZID=Asia/Shanghai:20160319T150000
DTSTAMP:20260423T094720
CREATED:20160315T004726Z
LAST-MODIFIED:20161026T161750Z
UID:2696-1458392400-1458399600@mukilteohistorical.org
SUMMARY:Lighthouse Docent Training
DESCRIPTION:
URL:https://mukilteohistorical.org/event/lighthouse-docent-training-2/
LOCATION:Light Station
CATEGORIES:Members
END:VEVENT
BEGIN:VEVENT
DTSTART;TZID=Asia/Shanghai:20160312T120000
DTEND;TZID=Asia/Shanghai:20160312T140000
DTSTAMP:20260423T094720
CREATED:20160315T031116Z
LAST-MODIFIED:20160315T031116Z
UID:2699-1457784000-1457791200@mukilteohistorical.org
SUMMARY:Key Holder Training
DESCRIPTION:
URL:https://mukilteohistorical.org/event/key-holder-training-2/
LOCATION:Light Station
END:VEVENT
BEGIN:VEVENT
DTSTART;TZID=Asia/Shanghai:20160312T120000
DTEND;TZID=Asia/Shanghai:20160312T140000
DTSTAMP:20260423T094720
CREATED:20160315T031116Z
LAST-MODIFIED:20161026T161750Z
UID:1808-1457784000-1457791200@mukilteohistorical.org
SUMMARY:Key Holder Training
DESCRIPTION:
URL:https://mukilteohistorical.org/event/key-holder-training/
LOCATION:Light Station
END:VEVENT
BEGIN:VEVENT
DTSTART;TZID=America/Los_Angeles:20160305T100000
DTEND;TZID=America/Los_Angeles:20160305T120000
DTSTAMP:20260423T094720
CREATED:20161026T161454Z
LAST-MODIFIED:20161026T161713Z
UID:3147-1457172000-1457179200@mukilteohistorical.org
SUMMARY:2016 Lighthouse Docent Training
DESCRIPTION:Interested in becoming a lighthouse docent?  Enjoy meeting new people? Come join in a training session of volunteers. Sessions to be held at the light station on March 5th at 10am and March 19th at 1pm. For more information leave a message at 425-513-9602 or email training@mukilteohistorical.org.
URL:https://mukilteohistorical.org/event/2016-volunteer-training/
LOCATION:Light Station
CATEGORIES:Members
ORGANIZER;CN="":MAILTO:training@mukilteohistorical.org
END:VEVENT
END:VCALENDAR